BEGIN:VCALENDAR
VERSION:2.0
PRODID:-//Ziber2013/
CALSCALE:GREGORIAN
BEGIN:VEVENT
UID:260654@https://www.kvspaarndam.nl
DTSTART:20260627T130000
DTEND:20260627T150000
SUMMARY:Workshop: Digitale tools voor het plannen van (kajak)avonturen
DESCRIPTION:<p>Wil je meer van het kanoparadijs Nederland ontdekken? Vroeger kocht je misschien een papieren kaart of een reisgids. Tegenwoordig is veel route-informatie digitaal en online beschikbaar.</p><p>In deze workshop verkennen we de basisprincipes van digitale kaarten en navigatie: hoe je je digitale kaarten software instelt en je oriënteert\, hoe je routes vindt en importeert naar je apparaat\, hoe je je eigen routes maakt (of bewerkt) - en hoe je ze gebruikt en deelt.</p><p>Hoewel er veel tools beschikbaar zijn\, gaan wij in deze workshop de maritieme navigatiefuncties van OpenStreetMap gebruiken - voornamelijk op je mobiele telefoon (of tablet). En ja: je kunt het ook gebruiken voor het plannen van wandel- of fietstochten.</p><p>[url|https://docs.google.com/forms/d/e/1FAIpQLSfTsUUxsg8qChBop3MzT--WAcZ7_gSaja5GYJ1HRhkJvSJt7Q/viewform?usp=publish-editor|<b>Registreer je hier (vóór woensdag 24 juni).</b>|ext] Er is ruimte voor 10 deelnemers. </p><p>Vragen? Graag aan Wiebke</p><p> </p><p>Voor de beste ervaring kom goed voorbereid:</p><p>- Neem je eigen mobiele telefoon of tablet mee (en zorg ervoor dat deze opgeladen is)</p><p>- Download en installeer OsmAnd al thuis [url|https://osmand.net/|(Download link voor iOS en Android)|ext]</p><p>- Tot slot: Open OsmAnd en download de kaart van Noord-Holland</p>
LOCATION:KVS - Kanovereniging Spaarndam\, Boezemkade 11\, 2063 JH Spaarndam Gem. Haarlem
ATTACH;FMTTYPE=image/jpeg:/content/28452/agenda/clnt/15e9ab7cacca46e7815e285f23de2653.png?width=1600&height=1200
SEQUENCE:0
DTSTAMP:20260423T152019
END:VEVENT
END:VCALENDAR
