BEGIN:VCALENDAR
VERSION:2.0
PRODID:-//Ziber2013/
CALSCALE:GREGORIAN
BEGIN:VEVENT
UID:260657@https://www.kvspaarndam.nl
DTSTART:20260530T113000
DTEND:20260530T143000
SUMMARY:Uitwisseling met roeivereniging “De Stern”
DESCRIPTION:<p>In 2025 waren wij als KVS uitgenodigd bij de opening van de nieuwe locatie van roeivereniging “[url|https://www.rvdestern.nl/|De Stern|ext]”. Tijdens deze opening hebben we gesproken met bestuursleden van de vereniging en het leek ons beiden leuk om in 2026 een uitwisseling te houden.</p><p><b>Zij een keer kajakken bij KVS en wij een keer roeien bij De Stern.</b></p><p>Het is niet alleen bij een idee gebleven maar op zaterdag 30 mei zijn we uitgenodigd voor een roeiclinic op de locatie van De Stern\, Stelling 55 aan het IJ tegenover Spaarndam.</p><p>Het programma op 30 mei is als volgt:</p><p>- Inloop vanaf 11.30.</p><p>- Rondleiding in het botenhuis\, daarna broodje/lunch en vervolgens het water op “roeien”. Na afloop drankje/ borrel en napraten.</p><p>De return is op 22 augustus\, dan mogen wij ons best doen om de leden van te verwelkomen en kennis te laten maken met onze mooie kajaksport. Meer informatie: Simon</p><p> </p><p><b>[url|https://docs.google.com/forms/d/e/1FAIpQLSdZ5vDpHIU9wnQXPs1QJFxB43L5-6W_OThOfZ9sfKJ_AAHqAA/viewform?usp=publish-editor|Registreer je hier (vóór woensdag 27 mei)|ext]</b></p>
LOCATION:Roeivereniging De Stern\, Stelling 55\, 1981 LL Velsen-Zuid
ATTACH;FMTTYPE=image/jpeg:/content/28452/agenda/clnt/e7a82bb17f004c81a1a6bbaea20019c8.png?width=1600&height=1200
SEQUENCE:0
DTSTAMP:20260423T145105
END:VEVENT
END:VCALENDAR
